BEGIN:VCALENDAR
VERSION:2.0
PRODID:icalendar-ruby
CALSCALE:GREGORIAN
METHOD:PUBLISH
BEGIN:VEVENT
DTSTAMP:20260424T065155Z
UID:436-99916@eastoldsbaptist.ca
DTSTART:20260614T190000Z
DTEND:20260614T220000Z
CLASS:PUBLIC
CREATED:20260422T104642
DESCRIPTION:Everyone is welcome to join us for our ANNUAL CHURCH PICNIC!\nM
 ore details to follow.\nWe will recognize our high school graduates in the
  morning service.
LAST-MODIFIED:20260422T104642
LOCATION:EOBC 
SUMMARY:CHURCH PICNIC & Grad Recognition
URL;VALUE=URI:https://www.eastoldsbaptist.ca/events/church-picnic-grad-reco
 gnition/2026-06-14
ATTACH;FILENAME=church picnic.png;FMTTYPE=image/png:https://dq5pwpg1q8ru0.c
 loudfront.net/2026/04/22/17/46/42/76a70f7f-8f46-4b30-a15b-79cfef371bb0/chu
 rch%20picnic.png
END:VEVENT
END:VCALENDAR
