BEGIN:VCALENDAR
VERSION:2.0
PRODID:icalendar-ruby
CALSCALE:GREGORIAN
METHOD:PUBLISH
BEGIN:VEVENT
DTSTAMP:20260424T065536Z
UID:435-99915@eastoldsbaptist.ca
DTSTART:20260608T000000Z
DTEND:20260608T030000Z
CLASS:PUBLIC
CREATED:20260422T104355
DESCRIPTION:Join us for a Supper (5PM) &amp\; Congregational Meeting (6PM).
 \nNew church members will be welcomed and everyone is encouraged to attend
 .
LAST-MODIFIED:20260422T104355
LOCATION:EOBC
SUMMARY:Congregational Meeting & Supper
URL;VALUE=URI:https://www.eastoldsbaptist.ca/events/congregational-meeting-
 supper--435/2026-06-07
ATTACH;FILENAME=annual meeting 1.jpg;FMTTYPE=image/jpeg:https://dq5pwpg1q8r
 u0.cloudfront.net/2026/04/22/17/43/55/4263e298-8476-4201-956c-4abab4981021
 /annual%20meeting%201.jpg
END:VEVENT
END:VCALENDAR
